BEGIN:VCALENDAR
VERSION:2.0
PRODID:-//Hamilton Business Centre - ECPv6.15.17//NONSGML v1.0//EN
CALSCALE:GREGORIAN
METHOD:PUBLISH
X-ORIGINAL-URL:https://investinhamilton.ca/hamilton-business-centre
X-WR-CALDESC:Events for Hamilton Business Centre
REFRESH-INTERVAL;VALUE=DURATION:PT1H
X-Robots-Tag:noindex
X-PUBLISHED-TTL:PT1H
BEGIN:VTIMEZONE
TZID:America/Toronto
BEGIN:DAYLIGHT
TZOFFSETFROM:-0500
TZOFFSETTO:-0400
TZNAME:EDT
DTSTART:20210314T070000
END:DAYLIGHT
BEGIN:STANDARD
TZOFFSETFROM:-0400
TZOFFSETTO:-0500
TZNAME:EST
DTSTART:20211107T060000
END:STANDARD
BEGIN:DAYLIGHT
TZOFFSETFROM:-0500
TZOFFSETTO:-0400
TZNAME:EDT
DTSTART:20220313T070000
END:DAYLIGHT
BEGIN:STANDARD
TZOFFSETFROM:-0400
TZOFFSETTO:-0500
TZNAME:EST
DTSTART:20221106T060000
END:STANDARD
BEGIN:DAYLIGHT
TZOFFSETFROM:-0500
TZOFFSETTO:-0400
TZNAME:EDT
DTSTART:20230312T070000
END:DAYLIGHT
BEGIN:STANDARD
TZOFFSETFROM:-0400
TZOFFSETTO:-0500
TZNAME:EST
DTSTART:20231105T060000
END:STANDARD
END:VTIMEZONE
BEGIN:VEVENT
DTSTART;TZID=America/Toronto:20220606T133000
DTEND;TZID=America/Toronto:20220606T150000
DTSTAMP:20260423T022108
CREATED:20220501T195741Z
LAST-MODIFIED:20220501T195742Z
UID:3893-1654522200-1654527600@investinhamilton.ca
SUMMARY:10 Steps To Starting A Business (Webinar)
DESCRIPTION:This FREE\, online session is a starting point for anyone thinking of opening a business. \n\n\n\nSome of the topics covered include: \n\n\n\nMarket researchRegistering your businessBusiness planningLicensing and zoningHST and taxesFinancing your business.\n\n\n\n*** Registration is required. A-Zoom link invitation will be sent to registrants only. \n\n\n\nIf you are running late or unable to attend\, please cancel your registration via email or call 905-540-6400. \n\n\n\nThank you.
URL:https://investinhamilton.ca/hamilton-business-centre/event/10-steps-to-starting-a-business-webinar-113/
END:VEVENT
BEGIN:VEVENT
DTSTART;TZID=America/Toronto:20220608T130000
DTEND;TZID=America/Toronto:20220608T160000
DTSTAMP:20260423T022108
CREATED:20220208T164318Z
LAST-MODIFIED:20220208T164319Z
UID:3566-1654693200-1654704000@investinhamilton.ca
SUMMARY:Access To Professionals (Marketing): Virtual Sessions
DESCRIPTION:Are you looking for Business Legal\, Accounting\, or Marketing advice? The Access to Professionals series provides an opportunity for you to meet with a professional for a 30 minute\, one-on-one meeting and gives you the opportunity to ask any questions you may have about your business. \n\n\n\nTo learn more about the Access to Professionals program please visit: https://investinhamilton.ca/hamilton-business-centre/access-to-professionals-2/ \n\n\n\nHow to Book Your Session: \n\n\n\nSessions are free\, booked in 30 minute intervals. \n\n\n\n*** Those wishing to participate MUST complete the attached form pertaining to details on their inquiry. Please download the form below\, complete in Adobe Acrobat or Adobe Reader\, save and email back to the Centre. \n\n\n\nPlease note the attached form is a fillable/editable PDF. If you have any difficulties with the attached form please email us directly at mail@hamiltonbusinesscentre.ca. \n\n\n\nAtoP Client Form 2020Download\n\n\n\nOnce submitted\, your form will be reviewed and you will be contacted with available appointment times.
URL:https://investinhamilton.ca/hamilton-business-centre/event/access-to-professionals-marketing-virtual-sessions-14/
LOCATION:Hamilton Business Centre\, City Hall\, Main Floor\, 71 Main Street West\, 1st Floor City Hall\, Hamilton\, Ontario\, L8P 4Y5\, Canada
ORGANIZER;CN="Hamilton Business Centre":MAILTO:hbc@hamilton.ca
END:VEVENT
BEGIN:VEVENT
DTSTART;TZID=America/Toronto:20220609T130000
DTEND;TZID=America/Toronto:20220609T160000
DTSTAMP:20260423T022108
CREATED:20211220T161508Z
LAST-MODIFIED:20211220T161509Z
UID:3520-1654779600-1654790400@investinhamilton.ca
SUMMARY:Access To Professionals (Legal): Virtual Sessions
DESCRIPTION:Are you looking for Business Legal\, Accounting\, or Marketing advice? The Access to Professionals series provides an opportunity for you to meet with a professional for a 30 minute\, one-on-one meeting and gives you the opportunity to ask any questions you may have about your business. \n\n\n\nTo learn more about the Access to Professionals program please visit: https://investinhamilton.ca/hamilton-business-centre/access-to-professionals-2/ \n\n\n\nHow to Book Your Session: \n\n\n\nSessions are free\, booked in 30 minute intervals. \n\n\n\n*** Those wishing to participate MUST complete the attached form pertaining to details on their inquiry. Please download the form below\, complete in Adobe Acrobat or Adobe Reader\, save and email back to the Centre. \n\n\n\nPlease note the attached form is a fillable/editable PDF. If you have any difficulties with the attached form please email us directly at mail@hamiltonbusinesscentre.ca. \n\n\n\nAtoP Client Form 2020Download\n\n\n\nOnce submitted\, your form will be reviewed and you will be contacted with available appointment times.
URL:https://investinhamilton.ca/hamilton-business-centre/event/access-to-professionals-legal-virtual-sessions-20/
LOCATION:Hamilton Business Centre\, City Hall\, Main Floor\, 71 Main Street West\, 1st Floor City Hall\, Hamilton\, Ontario\, L8P 4Y5\, Canada
ORGANIZER;CN="Hamilton Business Centre":MAILTO:hbc@hamilton.ca
END:VEVENT
BEGIN:VEVENT
DTSTART;TZID=America/Toronto:20220613T133000
DTEND;TZID=America/Toronto:20220613T150000
DTSTAMP:20260423T022108
CREATED:20220501T195922Z
LAST-MODIFIED:20220501T195923Z
UID:3894-1655127000-1655132400@investinhamilton.ca
SUMMARY:10 Steps To Starting A Business (Webinar)
DESCRIPTION:This FREE\, online session is a starting point for anyone thinking of opening a business. \n\n\n\nSome of the topics covered include: \n\n\n\nMarket researchRegistering your businessBusiness planningLicensing and zoningHST and taxesFinancing your business.\n\n\n\n*** Registration is required. A-Zoom link invitation will be sent to registrants only. \n\n\n\nIf you are running late or unable to attend\, please cancel your registration via email or call 905-540-6400. \n\n\n\nThank you.
URL:https://investinhamilton.ca/hamilton-business-centre/event/10-steps-to-starting-a-business-webinar-114/
END:VEVENT
BEGIN:VEVENT
DTSTART;TZID=America/Toronto:20220614T140000
DTEND;TZID=America/Toronto:20220614T153000
DTSTAMP:20260423T022108
CREATED:20220517T173736Z
LAST-MODIFIED:20220517T173811Z
UID:4063-1655215200-1655220600@investinhamilton.ca
SUMMARY:My Main Street (MMS) Mastermind Session: Financially Speaking
DESCRIPTION:Understanding your company’s financial statements is fundamental for business success. \n\n\n\nAbout this event:\n\n\n\nLanguage: English Duration: 1.5 hours \n\n\n\nCourse Delivery: Online (via ZOOM) by the My Main Street Business Accelerator Program. This session is open to any and all business owners and entrepreneurs. \n\n\n\nAll webinar participants will also receive access to a recording and any resource materials after the live session. \n\n\n\nSubject: Financials\, Financial Statements\, Profit\, Budgets \n\n\n\nCourse Description:\n\n\n\nUnderstanding your company’s financial statements is fundamental for business success\, but often business owners find themselves baffled by income statements\, balance sheets and cash flow forecasts. \n\n\n\nWhat You’ll Learn:\n\n\n\nWhy you need to understand the fundamentals of financial statements.Getting a grip on financial terminology.How to analyze your income statement and balance sheet.Ratios and benchmarks you should be monitoring.Things you can do to improve your overall business profit.Why budgets matter and how to make them work for you.Why the cash flow forecast is one of your most important financial management tools.\n\n\n\nPresented By:\n\n\n\nAndrew Patricio is the founder and owner of Bizlaunch\, a company that trains\, advises and mentors entrepreneurs. As an internationally recognized small business expert\, he has trained entrepreneurs in Canada and 21 other countries. Andrew understands entrepreneurs because he is an entrepreneur\, having started several businesses of his own and has authored two books on small business.
URL:https://investinhamilton.ca/hamilton-business-centre/event/my-main-street-mms-mastermind-session-financially-speaking/
END:VEVENT
BEGIN:VEVENT
DTSTART;TZID=America/Toronto:20220616T120000
DTEND;TZID=America/Toronto:20220616T130000
DTSTAMP:20260423T022108
CREATED:20220524T124018Z
LAST-MODIFIED:20220603T131918Z
UID:4066-1655380800-1655384400@investinhamilton.ca
SUMMARY:How to Write High-Impact Copy for Your Business (Even if You're Not a Copywriter)
DESCRIPTION:Registration is NOW OPEN! \n\n\n\nThe words you write for your business are directly tied to the overall success of your marketing efforts.  \n\n\n\nGreat copywriting can improve your brand\, build your pipeline and directly impact your bottom line. And there are tried-and-tested copywriting tips\, tricks\, and techniques that can help persuade and motivate any audience to take action.  \n\n\n\nIn this session designed for business owners and entrepreneurs\, you’ll discover how to strategically deliver words that will make a real impact on your business using the art and science of copywriting. \n\n\n\nHosted by the Hamilton Digital Main Street Digital Service Squad\, join copywriter\, content strategist\, and owner of Greenlight Content Vanessa Green for a 1-hour session on how to write clear\, concise\, and compelling copy for your business.  \n\n\n\nWhat you’ll learn in this session: \n\n\n\nWhat copywriting is and why it’s an integral part of the marketing mixCopywriting tactics including structure\, persuasion\, emotion\, power words\, and moreHow to position your copy to speak directly to your target audienceProven copywriting formulas that remove the guesswork from writingHow to use copywriting tools to make the writing process more effective \n\n\n\n*** Registration is required. A Zoom link will be emailed to all registrants prior to the session. \n\n\n\nThe session will begin promptly at 12:00 pm. \n\n\n\nIf you are unable to attend\, please cancel your registration via email or call 905-540-6400. \n\n\n\nThank you.
URL:https://investinhamilton.ca/hamilton-business-centre/event/how-to-write-high-impact-copy-for-your-business-even-if-youre-not-a-copywriter-5/
END:VEVENT
BEGIN:VEVENT
DTSTART;TZID=America/Toronto:20220620T133000
DTEND;TZID=America/Toronto:20220620T150000
DTSTAMP:20260423T022108
CREATED:20220501T200051Z
LAST-MODIFIED:20220501T200052Z
UID:3895-1655731800-1655737200@investinhamilton.ca
SUMMARY:10 Steps To Starting A Business (Webinar)
DESCRIPTION:This FREE\, online session is a starting point for anyone thinking of opening a business. \n\n\n\nSome of the topics covered include: \n\n\n\nMarket researchRegistering your businessBusiness planningLicensing and zoningHST and taxesFinancing your business.\n\n\n\n*** Registration is required. A-Zoom link invitation will be sent to registrants only. \n\n\n\nIf you are running late or unable to attend\, please cancel your registration via email or call 905-540-6400. \n\n\n\nThank you.
URL:https://investinhamilton.ca/hamilton-business-centre/event/10-steps-to-starting-a-business-webinar-115/
END:VEVENT
BEGIN:VEVENT
DTSTART;TZID=America/Toronto:20220627T133000
DTEND;TZID=America/Toronto:20220627T150000
DTSTAMP:20260423T022108
CREATED:20220501T200156Z
LAST-MODIFIED:20220501T200156Z
UID:3896-1656336600-1656342000@investinhamilton.ca
SUMMARY:10 Steps To Starting A Business (Webinar)
DESCRIPTION:This FREE\, online session is a starting point for anyone thinking of opening a business. \n\n\n\nSome of the topics covered include: \n\n\n\nMarket researchRegistering your businessBusiness planningLicensing and zoningHST and taxesFinancing your business.\n\n\n\n*** Registration is required. A-Zoom link invitation will be sent to registrants only. \n\n\n\nIf you are running late or unable to attend\, please cancel your registration via email or call 905-540-6400. \n\n\n\nThank you.
URL:https://investinhamilton.ca/hamilton-business-centre/event/10-steps-to-starting-a-business-webinar-116/
END:VEVENT
BEGIN:VEVENT
DTSTART;TZID=America/Toronto:20220628T140000
DTEND;TZID=America/Toronto:20220628T150000
DTSTAMP:20260423T022108
CREATED:20220517T174154Z
LAST-MODIFIED:20220517T174234Z
UID:4064-1656424800-1656428400@investinhamilton.ca
SUMMARY:My Main Street (MMS) Mastermind Session: Business Financials
DESCRIPTION:Let’s discuss the importance of financial management to your organization. \n\n\n\nAbout this event:\n\n\n\nLanguage: English Duration: 1.0 hours \n\n\n\nCourse Delivery: Online (via ZOOM) by the My Main Street Business Accelerator Program. This session is open to any and all business owners and entrepreneurs. \n\n\n\nAll webinar participants will also receive access to a recording and any resource materials after the live session. \n\n\n\nSubject: Financial Statement\, Strategy\, Financial Management \n\n\n\nSession Overview:\n\n\n\nIn this interactive session\, you will meet with subject matter experts to learn their best practices and the key points they believe business owners should focus on\, including: \n\n\n\nUnderstanding financial statementsHow to analyze the income statementGross profit and break-even\n\n\n\nParticipants will be encouraged to ask questions\, share resources and knowledge and to learn from other business owners. \n\n\n\nModerator:\n\n\n\nAndrew Patricio is the founder and owner of Bizlaunch\, a company that trains\, advises and mentors entrepreneurs. As an internationally recognized small business expert\, he has trained entrepreneurs in Canada and 21 other countries. Andrew understands entrepreneurs because he is an entrepreneur\, having started several businesses of his own and has authored two books on small business.
URL:https://investinhamilton.ca/hamilton-business-centre/event/my-main-street-mms-mastermind-session-business-financials/
END:VEVENT
BEGIN:VEVENT
DTSTART;TZID=America/Toronto:20220629T090000
DTEND;TZID=America/Toronto:20220629T110000
DTSTAMP:20260423T022108
CREATED:20220325T011236Z
LAST-MODIFIED:20220325T011237Z
UID:3706-1656493200-1656500400@investinhamilton.ca
SUMMARY:Canada Revenue Information Session - Tax Discussion (T1 Webinar)
DESCRIPTION:Canada Revenue Information Session – Tax Discussion (T1 Webinar) \n\n\n\nThe Canada Revenue Agency (CRA) in conjunction with the Hamilton Business Centre will be hosting a free interactive session to discuss the following topics; \n\n\n\nCommon tax errors\, what causes them and how to avoid themFinancial benchmarksInformation on CRA servicesGeneral bookkeeping concepts and best practices\n\n\n\n*** Please note this session will be delivered virtually. A Microsoft Teams invitation will be sent to all participants the day before the planned workshop. \n\n\n\nIf you are running late or unable to attend\, please cancel your registration via email or call 905-540-6400. \n\n\n\nThank you.
URL:https://investinhamilton.ca/hamilton-business-centre/event/canada-revenue-information-session-tax-discussion-t1-webinar-5/
END:VEVENT
END:VCALENDAR