BEGIN:VCALENDAR
VERSION:2.0
PRODID:-//Hamilton Business Centre - ECPv6.15.17//NONSGML v1.0//EN
CALSCALE:GREGORIAN
METHOD:PUBLISH
X-WR-CALNAME:Hamilton Business Centre
X-ORIGINAL-URL:https://investinhamilton.ca/hamilton-business-centre
X-WR-CALDESC:Events for Hamilton Business Centre
REFRESH-INTERVAL;VALUE=DURATION:PT1H
X-Robots-Tag:noindex
X-PUBLISHED-TTL:PT1H
BEGIN:VTIMEZONE
TZID:America/Toronto
BEGIN:DAYLIGHT
TZOFFSETFROM:-0500
TZOFFSETTO:-0400
TZNAME:EDT
DTSTART:20250309T070000
END:DAYLIGHT
BEGIN:STANDARD
TZOFFSETFROM:-0400
TZOFFSETTO:-0500
TZNAME:EST
DTSTART:20251102T060000
END:STANDARD
BEGIN:DAYLIGHT
TZOFFSETFROM:-0500
TZOFFSETTO:-0400
TZNAME:EDT
DTSTART:20260308T070000
END:DAYLIGHT
BEGIN:STANDARD
TZOFFSETFROM:-0400
TZOFFSETTO:-0500
TZNAME:EST
DTSTART:20261101T060000
END:STANDARD
BEGIN:DAYLIGHT
TZOFFSETFROM:-0500
TZOFFSETTO:-0400
TZNAME:EDT
DTSTART:20270314T070000
END:DAYLIGHT
BEGIN:STANDARD
TZOFFSETFROM:-0400
TZOFFSETTO:-0500
TZNAME:EST
DTSTART:20271107T060000
END:STANDARD
END:VTIMEZONE
BEGIN:VEVENT
DTSTART;TZID=America/Toronto:20260417T133000
DTEND;TZID=America/Toronto:20260417T150000
DTSTAMP:20260423T083233
CREATED:20260317T195417Z
LAST-MODIFIED:20260317T195418Z
UID:8154-1776432600-1776438000@investinhamilton.ca
SUMMARY:Ten Steps To Starting A Business (Virtual Resource)
DESCRIPTION:Learn how to start a small business at your own pace anywhere\, anytime! \n\n\n\nTen Steps to Starting a Business is an online guide written with the intent of pointing you\, the potential entrepreneur\, in the right direction – faster and easier! Now available in over 120+ languages.  \n\n\n\nJam-packed with information and resources for new business owners\, Ten Steps is broken down into 10 easy-to-follow steps available 24/7\, with both written and video resources available. \n\n\n\nTopics covered include: \n\n\n\n\nConducting Market Research\n\n\n\nPreparing a Business Plan\n\n\n\nChoosing a Business Structure\n\n\n\nRegistering your Business\n\n\n\nBusiness Number (BN)\n\n\n\nLicensing Requirments\n\n\n\nZoning Regulations\n\n\n\nAdditional Regulations\n\n\n\nFinancing your Business\n\n\n\nAdditional Resources\n\n\n\n\nPlease note this is a virtual online guide only\, no Zoom link will be sent. \n\n\n\nTo access the written guide and videos\, please register using the form below and you will receive a link to the email address provided. If you do not receive a link within a few minutes\, please check your Junk or Spam folders.
URL:https://investinhamilton.ca/hamilton-business-centre/event/ten-steps-to-starting-a-business-virtual-resource-92/
END:VEVENT
END:VCALENDAR